BEGIN:VCALENDAR
VERSION:2.0
PRODID:-//Brookline Bird Club - ECPv6.15.20//NONSGML v1.0//EN
CALSCALE:GREGORIAN
METHOD:PUBLISH
X-ORIGINAL-URL:https://www.brooklinebirdclub.org
X-WR-CALDESC:Events for Brookline Bird Club
REFRESH-INTERVAL;VALUE=DURATION:PT1H
X-Robots-Tag:noindex
X-PUBLISHED-TTL:PT1H
BEGIN:VTIMEZONE
TZID:America/New_York
BEGIN:DAYLIGHT
TZOFFSETFROM:-0500
TZOFFSETTO:-0400
TZNAME:EDT
DTSTART:20240310T070000
END:DAYLIGHT
BEGIN:STANDARD
TZOFFSETFROM:-0400
TZOFFSETTO:-0500
TZNAME:EST
DTSTART:20241103T060000
END:STANDARD
BEGIN:DAYLIGHT
TZOFFSETFROM:-0500
TZOFFSETTO:-0400
TZNAME:EDT
DTSTART:20250309T070000
END:DAYLIGHT
BEGIN:STANDARD
TZOFFSETFROM:-0400
TZOFFSETTO:-0500
TZNAME:EST
DTSTART:20251102T060000
END:STANDARD
BEGIN:DAYLIGHT
TZOFFSETFROM:-0500
TZOFFSETTO:-0400
TZNAME:EDT
DTSTART:20260308T070000
END:DAYLIGHT
BEGIN:STANDARD
TZOFFSETFROM:-0400
TZOFFSETTO:-0500
TZNAME:EST
DTSTART:20261101T060000
END:STANDARD
END:VTIMEZONE
BEGIN:VEVENT
DTSTART;TZID=America/New_York:20250427T070000
DTEND;TZID=America/New_York:20250427T110000
DTSTAMP:20260423T171842
CREATED:20250425T144615Z
LAST-MODIFIED:20250425T144715Z
UID:10002192-1745737200-1745751600@www.brooklinebirdclub.org
SUMMARY:Burrage Pond Wildlife Management Area (rescheduled from Saturday)
DESCRIPTION:A 3 to 4 mile walk along level gravel paths along the woods edge\, old cranberry bogs and reservoir. We will search for the locally breeding Sandhill Cranes and early migrants. The American Bittern is more often heard than seen and waterfowl should be plentiful.
URL:https://www.brooklinebirdclub.org/tripevent/burrage-pond-wildlife-management-area-rescheduled-from-saturday/
LOCATION:Hanson – Burrage Pond WMA\, Hawks Avenue\, Hanson\, MA\, 02341\, United States
CATEGORIES:Field Trip
ORGANIZER;CN="Ray Bedard":MAILTO:rayray5x@yahoo.com
GEO:42.0314684;-70.858059
X-APPLE-STRUCTURED-LOCATION;VALUE=URI;X-ADDRESS=Hanson – Burrage Pond WMA Hawks Avenue Hanson MA 02341 United States;X-APPLE-RADIUS=500;X-TITLE=Hawks Avenue:geo:-70.858059,42.0314684
END:VEVENT
BEGIN:VEVENT
DTSTART;TZID=America/New_York:20250426T070000
DTEND;TZID=America/New_York:20250426T110000
DTSTAMP:20260423T171842
CREATED:20250303T171936Z
LAST-MODIFIED:20250425T144821Z
UID:10002014-1745650800-1745665200@www.brooklinebirdclub.org
SUMMARY:Burrage Pond Wildlife Management Area (RESCHEDULED  to Sunday 4/27)
DESCRIPTION:Due to rain\, this walk is rescheduled to Sunday (4/27).
URL:https://www.brooklinebirdclub.org/tripevent/burrage-pond-wildlife-management-area-2/
LOCATION:Hanson – Burrage Pond WMA\, Hawks Avenue\, Hanson\, MA\, 02341\, United States
CATEGORIES:Field Trip
ORGANIZER;CN="Ray Bedard":MAILTO:rayray5x@yahoo.com
GEO:42.0314684;-70.858059
X-APPLE-STRUCTURED-LOCATION;VALUE=URI;X-ADDRESS=Hanson – Burrage Pond WMA Hawks Avenue Hanson MA 02341 United States;X-APPLE-RADIUS=500;X-TITLE=Hawks Avenue:geo:-70.858059,42.0314684
END:VEVENT
END:VCALENDAR