BEGIN:VCALENDAR
VERSION:2.0
PRODID:-//Brookline Bird Club - ECPv6.15.20//NONSGML v1.0//EN
CALSCALE:GREGORIAN
METHOD:PUBLISH
X-ORIGINAL-URL:https://www.brooklinebirdclub.org
X-WR-CALDESC:Events for Brookline Bird Club
REFRESH-INTERVAL;VALUE=DURATION:PT1H
X-Robots-Tag:noindex
X-PUBLISHED-TTL:PT1H
BEGIN:VTIMEZONE
TZID:America/New_York
BEGIN:DAYLIGHT
TZOFFSETFROM:-0500
TZOFFSETTO:-0400
TZNAME:EDT
DTSTART:20250309T070000
END:DAYLIGHT
BEGIN:STANDARD
TZOFFSETFROM:-0400
TZOFFSETTO:-0500
TZNAME:EST
DTSTART:20251102T060000
END:STANDARD
BEGIN:DAYLIGHT
TZOFFSETFROM:-0500
TZOFFSETTO:-0400
TZNAME:EDT
DTSTART:20260308T070000
END:DAYLIGHT
BEGIN:STANDARD
TZOFFSETFROM:-0400
TZOFFSETTO:-0500
TZNAME:EST
DTSTART:20261101T060000
END:STANDARD
BEGIN:DAYLIGHT
TZOFFSETFROM:-0500
TZOFFSETTO:-0400
TZNAME:EDT
DTSTART:20270314T070000
END:DAYLIGHT
BEGIN:STANDARD
TZOFFSETFROM:-0400
TZOFFSETTO:-0500
TZNAME:EST
DTSTART:20271107T060000
END:STANDARD
END:VTIMEZONE
BEGIN:VEVENT
DTSTART;TZID=America/New_York:20260125T090000
DTEND;TZID=America/New_York:20260125T120000
DTSTAMP:20260421T091724
CREATED:20250922T172851Z
LAST-MODIFIED:20260123T013724Z
UID:10002357-1769331600-1769342400@www.brooklinebirdclub.org
SUMMARY:Deer Island & Boston Harbor CANCELED DUE TO WEATHER!
DESCRIPTION:Canceled due to weather!
URL:https://www.brooklinebirdclub.org/tripevent/deer-island-boston-harbor-winthrop/
LOCATION:Winthrop – Deer Island Parking Lot\, 180 Tafts Ave.\, Winthrop\, MA\, 02152\, United States
CATEGORIES:Birding 101,Family Friendly,Field Trip
ORGANIZER;CN="Justine Hanson":MAILTO:justinehanson@gmail.com
GEO:42.3555764;-70.967713
X-APPLE-STRUCTURED-LOCATION;VALUE=URI;X-ADDRESS=Winthrop – Deer Island Parking Lot 180 Tafts Ave. Winthrop MA 02152 United States;X-APPLE-RADIUS=500;X-TITLE=180 Tafts Ave.:geo:-70.967713,42.3555764
END:VEVENT
BEGIN:VEVENT
DTSTART;TZID=America/New_York:20260131T090000
DTEND;TZID=America/New_York:20260131T120000
DTSTAMP:20260421T091724
CREATED:20250922T173052Z
LAST-MODIFIED:20260125T190852Z
UID:10002361-1769850000-1769860800@www.brooklinebirdclub.org
SUMMARY:Castle Island & Pleasure Bay\, South Boston (new date and time)
DESCRIPTION:We will search for wintering ducks\, shorebirds\, and Snowy Owls. Dress warmly and be prepared for cold and wind. Expect to walk up to 2 miles on paved paths. Beginners welcome and encouraged. Loaner binoculars available upon request – please contact the leader at least 48 hours in advance. Port-a-potties should be available. \nNote date and time change from original.
URL:https://www.brooklinebirdclub.org/tripevent/castle-island-pleasure-bay-south-boston/
LOCATION:South Boston – Castle Island Parking Lot\, 2080 Day Blvd.\, 2080 Day Blvd.\, Boston\, MA\, United States
CATEGORIES:Birding 101,Birding Boston,Field Trip
ORGANIZER;CN="Justine Hanson":MAILTO:justinehanson@gmail.com
GEO:42.3388757;-71.0131661
X-APPLE-STRUCTURED-LOCATION;VALUE=URI;X-ADDRESS=South Boston – Castle Island Parking Lot 2080 Day Blvd. 2080 Day Blvd. Boston MA United States;X-APPLE-RADIUS=500;X-TITLE=2080 Day Blvd.:geo:-71.0131661,42.3388757
END:VEVENT
END:VCALENDAR