BEGIN:VCALENDAR
VERSION:2.0
PRODID:-//Brookline Bird Club - ECPv6.15.20//NONSGML v1.0//EN
CALSCALE:GREGORIAN
METHOD:PUBLISH
X-WR-CALNAME:Brookline Bird Club
X-ORIGINAL-URL:https://www.brooklinebirdclub.org
X-WR-CALDESC:Events for Brookline Bird Club
REFRESH-INTERVAL;VALUE=DURATION:PT1H
X-Robots-Tag:noindex
X-PUBLISHED-TTL:PT1H
BEGIN:VTIMEZONE
TZID:America/New_York
BEGIN:DAYLIGHT
TZOFFSETFROM:-0500
TZOFFSETTO:-0400
TZNAME:EDT
DTSTART:20250309T070000
END:DAYLIGHT
BEGIN:STANDARD
TZOFFSETFROM:-0400
TZOFFSETTO:-0500
TZNAME:EST
DTSTART:20251102T060000
END:STANDARD
BEGIN:DAYLIGHT
TZOFFSETFROM:-0500
TZOFFSETTO:-0400
TZNAME:EDT
DTSTART:20260308T070000
END:DAYLIGHT
BEGIN:STANDARD
TZOFFSETFROM:-0400
TZOFFSETTO:-0500
TZNAME:EST
DTSTART:20261101T060000
END:STANDARD
BEGIN:DAYLIGHT
TZOFFSETFROM:-0500
TZOFFSETTO:-0400
TZNAME:EDT
DTSTART:20270314T070000
END:DAYLIGHT
BEGIN:STANDARD
TZOFFSETFROM:-0400
TZOFFSETTO:-0500
TZNAME:EST
DTSTART:20271107T060000
END:STANDARD
END:VTIMEZONE
BEGIN:VEVENT
DTSTART;TZID=America/New_York:20260421T063000
DTEND;TZID=America/New_York:20260421T080000
DTSTAMP:20260421T060108
CREATED:20260308T210506Z
LAST-MODIFIED:20260402T154408Z
UID:10002488-1776753000-1776758400@www.brooklinebirdclub.org
SUMMARY:Mount Auburn Cemetery
DESCRIPTION:
URL:https://www.brooklinebirdclub.org/tripevent/mount-auburn-cemetery-90/
LOCATION:Mount Auburn Cemetery\, 536 Mt Auburn St\, Cambridge\, MA\, 02138\, United States
CATEGORIES:Field Trip,Public Transport
ORGANIZER;CN="Thomas Michel":MAILTO:Thomas_Michel@hms.harvard.edu
GEO:42.37474861538;-71.144730098376
X-APPLE-STRUCTURED-LOCATION;VALUE=URI;X-ADDRESS=Mount Auburn Cemetery 536 Mt Auburn St Cambridge MA 02138 United States;X-APPLE-RADIUS=500;X-TITLE=536 Mt Auburn St:geo:-71.144730098376,42.37474861538
END:VEVENT
BEGIN:VEVENT
DTSTART;TZID=America/New_York:20260421T063000
DTEND;TZID=America/New_York:20260421T083000
DTSTAMP:20260421T060108
CREATED:20260308T210506Z
LAST-MODIFIED:20260308T210506Z
UID:10002487-1776753000-1776760200@www.brooklinebirdclub.org
SUMMARY:Marblehead Neck Sanctuary
DESCRIPTION:We will explore this small gem of a sanctuary for migrants and residents alike.
URL:https://www.brooklinebirdclub.org/tripevent/marblehead-neck-sanctuary-7/
LOCATION:Marblehead Neck MAS Sanctuary\, 98 Risley Road\, Marblehead\, MA\, 01945\, United States
CATEGORIES:Field Trip
ORGANIZER;CN="Linda Ferraresso":MAILTO:tattler1@comcast.net
GEO:42.4924061;-70.8390941
X-APPLE-STRUCTURED-LOCATION;VALUE=URI;X-ADDRESS=Marblehead Neck MAS Sanctuary 98 Risley Road Marblehead MA 01945 United States;X-APPLE-RADIUS=500;X-TITLE=98 Risley Road:geo:-70.8390941,42.4924061
END:VEVENT
BEGIN:VEVENT
DTSTART;TZID=America/New_York:20260421T080000
DTEND;TZID=America/New_York:20260421T093000
DTSTAMP:20260421T060108
CREATED:20260308T210507Z
LAST-MODIFIED:20260308T210507Z
UID:10002489-1776758400-1776763800@www.brooklinebirdclub.org
SUMMARY:Mary Cummings Park\, Burlington
DESCRIPTION:Join us as we explore Mary Cummings Park for spring migrants and local breeding birds. Cosponsored with the Menotomy Bird Club.
URL:https://www.brooklinebirdclub.org/tripevent/mary-cummings-park-burlington/
LOCATION:Woburn – Mary Cummings Park\, across from 10 Blanchard Rd\, Burlington\, MA\, United States
CATEGORIES:Field Trip
ORGANIZER;CN="Diana Fruguglietti":MAILTO:diana.fru@gmail.com
GEO:42.481142179651;-71.193457050355
X-APPLE-STRUCTURED-LOCATION;VALUE=URI;X-ADDRESS=Woburn – Mary Cummings Park across from 10 Blanchard Rd Burlington MA United States;X-APPLE-RADIUS=500;X-TITLE=across from 10 Blanchard Rd:geo:-71.193457050355,42.481142179651
END:VEVENT
END:VCALENDAR