BEGIN:VCALENDAR
VERSION:2.0
PRODID:-//Brookline Bird Club - ECPv6.15.20//NONSGML v1.0//EN
CALSCALE:GREGORIAN
METHOD:PUBLISH
X-WR-CALNAME:Brookline Bird Club
X-ORIGINAL-URL:https://www.brooklinebirdclub.org
X-WR-CALDESC:Events for Brookline Bird Club
REFRESH-INTERVAL;VALUE=DURATION:PT1H
X-Robots-Tag:noindex
X-PUBLISHED-TTL:PT1H
BEGIN:VTIMEZONE
TZID:America/New_York
BEGIN:DAYLIGHT
TZOFFSETFROM:-0500
TZOFFSETTO:-0400
TZNAME:EDT
DTSTART:20250309T070000
END:DAYLIGHT
BEGIN:STANDARD
TZOFFSETFROM:-0400
TZOFFSETTO:-0500
TZNAME:EST
DTSTART:20251102T060000
END:STANDARD
BEGIN:DAYLIGHT
TZOFFSETFROM:-0500
TZOFFSETTO:-0400
TZNAME:EDT
DTSTART:20260308T070000
END:DAYLIGHT
BEGIN:STANDARD
TZOFFSETFROM:-0400
TZOFFSETTO:-0500
TZNAME:EST
DTSTART:20261101T060000
END:STANDARD
BEGIN:DAYLIGHT
TZOFFSETFROM:-0500
TZOFFSETTO:-0400
TZNAME:EDT
DTSTART:20270314T070000
END:DAYLIGHT
BEGIN:STANDARD
TZOFFSETFROM:-0400
TZOFFSETTO:-0500
TZNAME:EST
DTSTART:20271107T060000
END:STANDARD
END:VTIMEZONE
BEGIN:VEVENT
DTSTART;TZID=America/New_York:20260420T060000
DTEND;TZID=America/New_York:20260420T080000
DTSTAMP:20260420T054201
CREATED:20260308T210306Z
LAST-MODIFIED:20260308T210306Z
UID:10002485-1776664800-1776672000@www.brooklinebirdclub.org
SUMMARY:Westboro Wildlife Management Area
DESCRIPTION:We will hike the north side of Big Chauncy Pond in search of migrant warblers.
URL:https://www.brooklinebirdclub.org/tripevent/westboro-wildlife-management-area-15/
LOCATION:Westborough – Ball Field\, Hospital Rd\, Westborough\, MA\, United States
CATEGORIES:Field Trip
ORGANIZER;CN="Nick Paulson":MAILTO:grendelpgill@yahoo.com
GEO:42.2987515474;-71.6110810794
X-APPLE-STRUCTURED-LOCATION;VALUE=URI;X-ADDRESS=Westborough – Ball Field Hospital Rd Westborough MA United States;X-APPLE-RADIUS=500;X-TITLE=Hospital Rd:geo:-71.6110810794,42.2987515474
END:VEVENT
BEGIN:VEVENT
DTSTART;TZID=America/New_York:20260420T070000
DTEND;TZID=America/New_York:20260420T090000
DTSTAMP:20260420T054201
CREATED:20260308T210505Z
LAST-MODIFIED:20260402T154431Z
UID:10002486-1776668400-1776675600@www.brooklinebirdclub.org
SUMMARY:Mount Auburn Cemetery
DESCRIPTION:
URL:https://www.brooklinebirdclub.org/tripevent/mount-auburn-cemetery-89/
LOCATION:Mount Auburn Cemetery\, 536 Mt Auburn St\, Cambridge\, MA\, 02138\, United States
CATEGORIES:Field Trip,Public Transport
ORGANIZER;CN="Cliff Cook":MAILTO:ccook13@gmail.com
GEO:42.37474861538;-71.144730098376
X-APPLE-STRUCTURED-LOCATION;VALUE=URI;X-ADDRESS=Mount Auburn Cemetery 536 Mt Auburn St Cambridge MA 02138 United States;X-APPLE-RADIUS=500;X-TITLE=536 Mt Auburn St:geo:-71.144730098376,42.37474861538
END:VEVENT
END:VCALENDAR