BEGIN:VCALENDAR
VERSION:2.0
PRODID:-//Brookline Bird Club - ECPv6.15.20//NONSGML v1.0//EN
CALSCALE:GREGORIAN
METHOD:PUBLISH
X-ORIGINAL-URL:https://www.brooklinebirdclub.org
X-WR-CALDESC:Events for Brookline Bird Club
REFRESH-INTERVAL;VALUE=DURATION:PT1H
X-Robots-Tag:noindex
X-PUBLISHED-TTL:PT1H
BEGIN:VTIMEZONE
TZID:America/New_York
BEGIN:DAYLIGHT
TZOFFSETFROM:-0500
TZOFFSETTO:-0400
TZNAME:EDT
DTSTART:20250309T070000
END:DAYLIGHT
BEGIN:STANDARD
TZOFFSETFROM:-0400
TZOFFSETTO:-0500
TZNAME:EST
DTSTART:20251102T060000
END:STANDARD
BEGIN:DAYLIGHT
TZOFFSETFROM:-0500
TZOFFSETTO:-0400
TZNAME:EDT
DTSTART:20260308T070000
END:DAYLIGHT
BEGIN:STANDARD
TZOFFSETFROM:-0400
TZOFFSETTO:-0500
TZNAME:EST
DTSTART:20261101T060000
END:STANDARD
BEGIN:DAYLIGHT
TZOFFSETFROM:-0500
TZOFFSETTO:-0400
TZNAME:EDT
DTSTART:20270314T070000
END:DAYLIGHT
BEGIN:STANDARD
TZOFFSETFROM:-0400
TZOFFSETTO:-0500
TZNAME:EST
DTSTART:20271107T060000
END:STANDARD
END:VTIMEZONE
BEGIN:VEVENT
DTSTART;TZID=America/New_York:20260508T070000
DTEND;TZID=America/New_York:20260508T090000
DTSTAMP:20260420T042756
CREATED:20260308T210840Z
LAST-MODIFIED:20260401T175601Z
UID:10002543-1778223600-1778230800@www.brooklinebirdclub.org
SUMMARY:Bird with the BBC to Honor Dana Jewell and Ingeborg Burgaff
DESCRIPTION:Space is limited – Registration required. https://www.eventbrite.com/e/bird-with-the-brookline-bird-club-to-honor-dana-jewell-and-ingeborg-burgaff-tickets-1982192622493?aff=oddtdtcreator\nJoin the Brookline Bird Club and Friends of the Fells to spot migrating bird species as they travel back north amidst the warming spring weather. With the right conditions\, we expect to see 10 species of warblers or more! This walk is in honor of Dana Jewell and Ingeborg Burgaff\, long-time supporters of the Brookline Bird Club and Friends of the Fells\, who spent a lot of time watching the many bird species at this particular location in the Fells.
URL:https://www.brooklinebirdclub.org/tripevent/bird-with-the-bbc-to-honor-dana-jewell-and-ingeborg-burgaff/
LOCATION:Stoneham – Greenwood Park\, 176 Pond St\, Stoneham\, MA\, 02180\, United States
CATEGORIES:Field Trip,Loaner Binoculars,Public Transport
ORGANIZER;CN="Marilyn Tillinghast":MAILTO:marilyntillinghast@gmail.com
GEO:42.4623081;-71.0915317
X-APPLE-STRUCTURED-LOCATION;VALUE=URI;X-ADDRESS=Stoneham – Greenwood Park 176 Pond St Stoneham MA 02180 United States;X-APPLE-RADIUS=500;X-TITLE=176 Pond St:geo:-71.0915317,42.4623081
END:VEVENT
BEGIN:VEVENT
DTSTART;TZID=America/New_York:20260601T080000
DTEND;TZID=America/New_York:20260601T170000
DTSTAMP:20260420T042756
CREATED:20260330T202700Z
LAST-MODIFIED:20260330T202724Z
UID:10002645-1780300800-1780333200@www.brooklinebirdclub.org
SUMMARY:Bring Back Boblinks: Bobolink Walk and Nature Journaling
DESCRIPTION:Part of our Bring Back Boblinks conservation series. \nLearn about our special species of concern\, the Bobolink\, during a guided walk through their breeding habitat observing field marks\, mating calls and nest building. \nThen study and appreciate these beautiful birds during a fun nature journaling/sketching session. Beginners welcome! \nBring your journal\, sketch pad\, pencils\, and stool for the journaling session. Some materials will be available if needed. \nContact leaders a few days before\, but not later than Friday\, May 29 for location and start time.
URL:https://www.brooklinebirdclub.org/tripevent/bring-back-boblinks-bobolink-walk-and-nature-journaling/
CATEGORIES:Conservation Series,Field Trip
ORGANIZER;CN="Laura de la Flor":MAILTO:anhinga3@comcast.net
END:VEVENT
END:VCALENDAR